BEGIN:VCALENDAR
VERSION:2.0
PRODID:-//Straight Frets - ECPv6.15.18//NONSGML v1.0//EN
CALSCALE:GREGORIAN
METHOD:PUBLISH
X-ORIGINAL-URL:https://straightfrets.com
X-WR-CALDESC:Events for Straight Frets
REFRESH-INTERVAL;VALUE=DURATION:PT1H
X-Robots-Tag:noindex
X-PUBLISHED-TTL:PT1H
BEGIN:VTIMEZONE
TZID:America/Chicago
BEGIN:DAYLIGHT
TZOFFSETFROM:-0600
TZOFFSETTO:-0500
TZNAME:CDT
DTSTART:20240310T080000
END:DAYLIGHT
BEGIN:STANDARD
TZOFFSETFROM:-0500
TZOFFSETTO:-0600
TZNAME:CST
DTSTART:20241103T070000
END:STANDARD
BEGIN:DAYLIGHT
TZOFFSETFROM:-0600
TZOFFSETTO:-0500
TZNAME:CDT
DTSTART:20250309T080000
END:DAYLIGHT
BEGIN:STANDARD
TZOFFSETFROM:-0500
TZOFFSETTO:-0600
TZNAME:CST
DTSTART:20251102T070000
END:STANDARD
BEGIN:DAYLIGHT
TZOFFSETFROM:-0600
TZOFFSETTO:-0500
TZNAME:CDT
DTSTART:20260308T080000
END:DAYLIGHT
BEGIN:STANDARD
TZOFFSETFROM:-0500
TZOFFSETTO:-0600
TZNAME:CST
DTSTART:20261101T070000
END:STANDARD
END:VTIMEZONE
BEGIN:VEVENT
DTSTART;TZID=America/Chicago:20250223T123000
DTEND;TZID=America/Chicago:20250223T160000
DTSTAMP:20260425T052101
CREATED:20250114T163642Z
LAST-MODIFIED:20250221T205420Z
UID:10000068-1740313800-1740326400@straightfrets.com
SUMMARY:Electric Guitar Setup Class February - Houston
DESCRIPTION:Guitar Setup Classes – Learn how to setup your guitar at our monthly guitar setup class\, hosted on Sundays by two of our trained and skilled luthiers on staff. We ask that you show up 15-30 minutes prior to the class start time. Please bring in two guitars with easy truss rod access. Someone’s extra guitar will be used as the class demo. Class tuition includes over $100 worth of take-home tools\, a 24 page booklet\, and a free set of strings (coated and bass strings are extra). To reserve your spot please use the calendar below to pay via PayPal or secure credit card payment.
URL:https://straightfrets.com/event/electric-guitar-setup-class-february-houston/
LOCATION:Straight Frets Guitar Repair – Houston\, 5151 Mitchelldale Street\, Suite B9\, Houston\, TX\, 77092\, United States
CATEGORIES:Classes
ORGANIZER;CN="Straight Frets":MAILTO:straightfrets@gmail.com
END:VEVENT
END:VCALENDAR