BEGIN:VCALENDAR
VERSION:2.0
PRODID:-//Straight Frets - ECPv6.15.18//NONSGML v1.0//EN
CALSCALE:GREGORIAN
METHOD:PUBLISH
X-ORIGINAL-URL:https://straightfrets.com
X-WR-CALDESC:Events for Straight Frets
REFRESH-INTERVAL;VALUE=DURATION:PT1H
X-Robots-Tag:noindex
X-PUBLISHED-TTL:PT1H
BEGIN:VTIMEZONE
TZID:America/Chicago
BEGIN:DAYLIGHT
TZOFFSETFROM:-0600
TZOFFSETTO:-0500
TZNAME:CDT
DTSTART:20250309T080000
END:DAYLIGHT
BEGIN:STANDARD
TZOFFSETFROM:-0500
TZOFFSETTO:-0600
TZNAME:CST
DTSTART:20251102T070000
END:STANDARD
BEGIN:DAYLIGHT
TZOFFSETFROM:-0600
TZOFFSETTO:-0500
TZNAME:CDT
DTSTART:20260308T080000
END:DAYLIGHT
BEGIN:STANDARD
TZOFFSETFROM:-0500
TZOFFSETTO:-0600
TZNAME:CST
DTSTART:20261101T070000
END:STANDARD
BEGIN:DAYLIGHT
TZOFFSETFROM:-0600
TZOFFSETTO:-0500
TZNAME:CDT
DTSTART:20270314T080000
END:DAYLIGHT
BEGIN:STANDARD
TZOFFSETFROM:-0500
TZOFFSETTO:-0600
TZNAME:CST
DTSTART:20271107T070000
END:STANDARD
END:VTIMEZONE
BEGIN:VEVENT
DTSTART;TZID=America/Chicago:20260118T120000
DTEND;TZID=America/Chicago:20260118T163000
DTSTAMP:20260424T154522
CREATED:20251212T163413Z
LAST-MODIFIED:20251212T164824Z
UID:10000086-1768737600-1768753800@straightfrets.com
SUMMARY:Electric Guitar Setup Class January 18th Houston
DESCRIPTION:Guitar Setup Classes – Learn how to setup your guitar at our monthly guitar setup class\, hosted on a Saturday by two of our trained and skilled luthiers on staff. We ask that you show up 15-30 minutes prior to the class start time. Please bring in two guitars with easy truss rod access. Someone’s extra guitar will be used as the class demo. Class tuition includes over $100 worth of take-home tools\, a 24 page booklet\, and a free set of strings (coated and bass strings are extra). To reserve your spot please use the calendar below to pay via PayPal or secure credit card payment.
URL:https://straightfrets.com/event/electric-guitar-setup-class-january-18th-houston/
LOCATION:Straight Frets Guitar Repair – Houston\, 5151 Mitchelldale Street\, Suite B9\, Houston\, TX\, 77092\, United States
CATEGORIES:Classes
ORGANIZER;CN="Straight Frets":MAILTO:straightfrets@gmail.com
END:VEVENT
BEGIN:VEVENT
DTSTART;TZID=America/Chicago:20260124T130000
DTEND;TZID=America/Chicago:20260124T163000
DTSTAMP:20260424T154522
CREATED:20251212T164632Z
LAST-MODIFIED:20251212T164632Z
UID:10000088-1769259600-1769272200@straightfrets.com
SUMMARY:Electric Guitar Setup Class January 24th Austin
DESCRIPTION:Guitar Setup Classes – Learn how to setup your guitar at our monthly guitar setup class\, hosted on a Saturday by two of our trained and skilled luthiers on staff. We ask that you show up 15-30 minutes prior to the class start time. Please bring in two guitars with easy truss rod access. Someone’s extra guitar will be used as the class demo. Class tuition includes over $100 worth of take-home tools\, a 24 page booklet\, and a free set of strings (coated and bass strings are extra). To reserve your spot please use the calendar below to pay via PayPal or secure credit card payment.
URL:https://straightfrets.com/event/electric-guitar-setup-class-january-24th-austin/
LOCATION:Straight Frets Guitar Repair – Austin\, 3720 South Congress Ave.\, Austin\, TX\, 78704\, United States
CATEGORIES:Classes
ORGANIZER;CN="Straight Frets":MAILTO:straightfrets@gmail.com
END:VEVENT
END:VCALENDAR