BEGIN:VCALENDAR
VERSION:2.0
PRODID:-//Straight Frets - ECPv6.15.18//NONSGML v1.0//EN
CALSCALE:GREGORIAN
METHOD:PUBLISH
X-WR-CALNAME:Straight Frets
X-ORIGINAL-URL:https://straightfrets.com
X-WR-CALDESC:Events for Straight Frets
REFRESH-INTERVAL;VALUE=DURATION:PT1H
X-Robots-Tag:noindex
X-PUBLISHED-TTL:PT1H
BEGIN:VTIMEZONE
TZID:America/Chicago
BEGIN:DAYLIGHT
TZOFFSETFROM:-0600
TZOFFSETTO:-0500
TZNAME:CDT
DTSTART:20230312T080000
END:DAYLIGHT
BEGIN:STANDARD
TZOFFSETFROM:-0500
TZOFFSETTO:-0600
TZNAME:CST
DTSTART:20231105T070000
END:STANDARD
BEGIN:DAYLIGHT
TZOFFSETFROM:-0600
TZOFFSETTO:-0500
TZNAME:CDT
DTSTART:20240310T080000
END:DAYLIGHT
BEGIN:STANDARD
TZOFFSETFROM:-0500
TZOFFSETTO:-0600
TZNAME:CST
DTSTART:20241103T070000
END:STANDARD
BEGIN:DAYLIGHT
TZOFFSETFROM:-0600
TZOFFSETTO:-0500
TZNAME:CDT
DTSTART:20250309T080000
END:DAYLIGHT
BEGIN:STANDARD
TZOFFSETFROM:-0500
TZOFFSETTO:-0600
TZNAME:CST
DTSTART:20251102T070000
END:STANDARD
END:VTIMEZONE
BEGIN:VEVENT
DTSTART;TZID=America/Chicago:20240221T080000
DTEND;TZID=America/Chicago:20240221T170000
DTSTAMP:20260425T190701
CREATED:20240221T190925Z
LAST-MODIFIED:20240221T190925Z
UID:10000047-1708502400-1708534800@straightfrets.com
SUMMARY:Jim Vence Birthday Meet and Greet
DESCRIPTION:This is a test of a new Calendaring page for Straight Frets. \nJim Vence\, will be at Straight Frets. \n 
URL:https://straightfrets.com/event/jim-vence-birthday-meet-and-greet/
LOCATION:Straight Frets Guitar Repair – Austin\, 3720 South Congress Ave.\, Austin\, TX\, 78704\, United States
ORGANIZER;CN="Straight Frets":MAILTO:straightfrets@gmail.com
END:VEVENT
END:VCALENDAR