BEGIN:VCALENDAR
VERSION:2.0
PRODID:-//Straight Frets - ECPv6.15.18//NONSGML v1.0//EN
CALSCALE:GREGORIAN
METHOD:PUBLISH
X-WR-CALNAME:Straight Frets
X-ORIGINAL-URL:https://straightfrets.com
X-WR-CALDESC:Events for Straight Frets
REFRESH-INTERVAL;VALUE=DURATION:PT1H
X-Robots-Tag:noindex
X-PUBLISHED-TTL:PT1H
BEGIN:VTIMEZONE
TZID:America/Chicago
BEGIN:DAYLIGHT
TZOFFSETFROM:-0600
TZOFFSETTO:-0500
TZNAME:CDT
DTSTART:20240310T080000
END:DAYLIGHT
BEGIN:STANDARD
TZOFFSETFROM:-0500
TZOFFSETTO:-0600
TZNAME:CST
DTSTART:20241103T070000
END:STANDARD
BEGIN:DAYLIGHT
TZOFFSETFROM:-0600
TZOFFSETTO:-0500
TZNAME:CDT
DTSTART:20250309T080000
END:DAYLIGHT
BEGIN:STANDARD
TZOFFSETFROM:-0500
TZOFFSETTO:-0600
TZNAME:CST
DTSTART:20251102T070000
END:STANDARD
BEGIN:DAYLIGHT
TZOFFSETFROM:-0600
TZOFFSETTO:-0500
TZNAME:CDT
DTSTART:20260308T080000
END:DAYLIGHT
BEGIN:STANDARD
TZOFFSETFROM:-0500
TZOFFSETTO:-0600
TZNAME:CST
DTSTART:20261101T070000
END:STANDARD
END:VTIMEZONE
BEGIN:VEVENT
DTSTART;TZID=America/Chicago:20250920T140000
DTEND;TZID=America/Chicago:20250920T210000
DTSTAMP:20260424T184614
CREATED:20250909T222215Z
LAST-MODIFIED:20250909T222737Z
UID:10000082-1758376800-1758402000@straightfrets.com
SUMMARY:Karbachtoberfest: Guitar Set Up
DESCRIPTION:Bring your guitar to Karbach Brewing for a reduced price set-up ($80\, including strings).   Stay for the live music\, and special events\, and Karbach’s craft beers.
URL:https://straightfrets.com/event/karbach-brewing-karbachtoberfest-guitar-set-up/
LOCATION:Karbach Brewing\, 2032 Karbach St.\, Houston\, TX\, 77092\, United States
ORGANIZER;CN="Straight Frets":MAILTO:straightfrets@gmail.com
END:VEVENT
END:VCALENDAR